BEGIN:VCALENDAR
VERSION:2.0
PRODID:-//192.124.249.102//NONSGML kigkonsult.se iCalcreator 2.26.9//
CALSCALE:GREGORIAN
METHOD:PUBLISH
X-FROM-URL:https://karekaresurfclub.org.nz
X-WR-TIMEZONE:Atlantic/Azores
BEGIN:VTIMEZONE
TZID:Atlantic/Azores
X-LIC-LOCATION:Atlantic/Azores
BEGIN:STANDARD
DTSTART:20201025T010000
TZOFFSETFROM:+0000
TZOFFSETTO:-0100
RDATE:20211031T010000
TZNAME:-01
END:STANDARD
BEGIN:DAYLIGHT
DTSTART:20210328T000000
TZOFFSETFROM:-0100
TZOFFSETTO:+0000
RDATE:20220327T000000
TZNAME:+00
END:DAYLIGHT
END:VTIMEZONE
BEGIN:VEVENT
UID:ai1ec-2389@kare-kare.web123.nz
DTSTAMP:20210119T072226Z
CATEGORIES:
CONTACT:
DESCRIPTION:
DTSTART;VALUE=DATE:20200206
DTEND;VALUE=DATE:20200207
SEQUENCE:0
SUMMARY:Patrol 3
URL:https://karekaresurfclub.org.nz/event/patrol-3/
X-COST-TYPE:free
END:VEVENT
BEGIN:VEVENT
UID:ai1ec-2358@kare-kare.web123.nz
DTSTAMP:20210119T072226Z
CATEGORIES:
CONTACT:
DESCRIPTION:
DTSTART;VALUE=DATE:20200209
DTEND;VALUE=DATE:20200210
RDATE;TZID=Atlantic/Azores:20200226T000000
SEQUENCE:0
SUMMARY:Patrol 3
URL:https://karekaresurfclub.org.nz/event/event/
X-COST-TYPE:free
END:VEVENT
BEGIN:VEVENT
UID:ai1ec-2390@kare-kare.web123.nz
DTSTAMP:20210119T072226Z
CATEGORIES:
CONTACT:
DESCRIPTION:
DTSTART;VALUE=DATE:20200215
DTEND;VALUE=DATE:20200218
SEQUENCE:0
SUMMARY:Patrol 5
URL:https://karekaresurfclub.org.nz/event/patrol-5/
X-COST-TYPE:free
END:VEVENT
BEGIN:VEVENT
UID:ai1ec-2388@kare-kare.web123.nz
DTSTAMP:20210119T072226Z
CATEGORIES:
CONTACT:
DESCRIPTION:
DTSTART;VALUE=DATE:20200222
DTEND;VALUE=DATE:20200223
SEQUENCE:0
SUMMARY:Patrol 2 & Splore Event Guarding
URL:https://karekaresurfclub.org.nz/event/patrol-2-splore-event-guarding/
X-COST-TYPE:free
END:VEVENT
BEGIN:VEVENT
UID:ai1ec-2413@karekaresurfclub.org.nz
DTSTAMP:20210119T072226Z
CATEGORIES:
CONTACT:
DESCRIPTION:
DTSTART;VALUE=DATE:20200307
DTEND;VALUE=DATE:20200308
LOCATION:Karekare Surf Club @ Karekare 0772
SEQUENCE:0
SUMMARY:Patrol 4
URL:https://karekaresurfclub.org.nz/event/patrol-4/
X-COST-TYPE:free
END:VEVENT
BEGIN:VEVENT
UID:ai1ec-2414@karekaresurfclub.org.nz
DTSTAMP:20210119T072226Z
CATEGORIES:
CONTACT:
DESCRIPTION:
DTSTART;VALUE=DATE:20200308
DTEND;VALUE=DATE:20200309
SEQUENCE:0
SUMMARY:Patrol 4
URL:https://karekaresurfclub.org.nz/event/patrol-4-2/
X-COST-TYPE:free
END:VEVENT
BEGIN:VEVENT
UID:ai1ec-2415@karekaresurfclub.org.nz
DTSTAMP:20210119T072226Z
CATEGORIES:
CONTACT:
DESCRIPTION:
DTSTART;VALUE=DATE:20200314
DTEND;VALUE=DATE:20200315
SEQUENCE:0
SUMMARY:Patrol 2
URL:https://karekaresurfclub.org.nz/event/patrol-2/
X-COST-TYPE:free
END:VEVENT
BEGIN:VEVENT
UID:ai1ec-2417@karekaresurfclub.org.nz
DTSTAMP:20210119T072226Z
CATEGORIES:
CONTACT:
DESCRIPTION:
DTSTART;VALUE=DATE:20200315
DTEND;VALUE=DATE:20200316
SEQUENCE:0
SUMMARY:Junior Surf Club Day
URL:https://karekaresurfclub.org.nz/event/junior-surf-club-day/
X-COST-TYPE:free
END:VEVENT
BEGIN:VEVENT
UID:ai1ec-2416@karekaresurfclub.org.nz
DTSTAMP:20210119T072226Z
CATEGORIES:
CONTACT:
DESCRIPTION:
DTSTART;VALUE=DATE:20200315
DTEND;VALUE=DATE:20200316
SEQUENCE:0
SUMMARY:Patrol 5
URL:https://karekaresurfclub.org.nz/event/patrol-5-2/
X-COST-TYPE:free
END:VEVENT
BEGIN:VEVENT
UID:ai1ec-2418@karekaresurfclub.org.nz
DTSTAMP:20210119T072226Z
CATEGORIES:
CONTACT:
DESCRIPTION:
DTSTART;VALUE=DATE:20200321
DTEND;VALUE=DATE:20200322
SEQUENCE:0
SUMMARY:Patrol 1
URL:https://karekaresurfclub.org.nz/event/patrol-1/
X-COST-TYPE:free
END:VEVENT
BEGIN:VEVENT
UID:ai1ec-2419@karekaresurfclub.org.nz
DTSTAMP:20210119T072226Z
CATEGORIES:
CONTACT:
DESCRIPTION:
DTSTART;VALUE=DATE:20200322
DTEND;VALUE=DATE:20200323
SEQUENCE:0
SUMMARY:Patrol 1
URL:https://karekaresurfclub.org.nz/event/patrol-1-2/
X-COST-TYPE:free
END:VEVENT
BEGIN:VEVENT
UID:ai1ec-2422@karekaresurfclub.org.nz
DTSTAMP:20210119T072226Z
CATEGORIES:
CONTACT:
DESCRIPTION:
DTSTART;VALUE=DATE:20200328
DTEND;VALUE=DATE:20200329
SEQUENCE:0
SUMMARY:Patrol 4
URL:https://karekaresurfclub.org.nz/event/patrol-4-3/
X-COST-TYPE:free
END:VEVENT
BEGIN:VEVENT
UID:ai1ec-2420@karekaresurfclub.org.nz
DTSTAMP:20210119T072226Z
CATEGORIES:
CONTACT:
DESCRIPTION:
DTSTART;VALUE=DATE:20200328
DTEND;VALUE=DATE:20200329
SEQUENCE:0
SUMMARY:Senior Club Day
URL:https://karekaresurfclub.org.nz/event/senior-club-day-2/
X-COST-TYPE:free
END:VEVENT
BEGIN:VEVENT
UID:ai1ec-2387@kare-kare.web123.nz
DTSTAMP:20210119T072226Z
CATEGORIES:
CONTACT:
DESCRIPTION:
DTSTART;VALUE=DATE:20200328
DTEND;VALUE=DATE:20200329
SEQUENCE:0
SUMMARY:Senior Club Day
URL:https://karekaresurfclub.org.nz/event/senior-club-day/
X-COST-TYPE:free
END:VEVENT
BEGIN:VEVENT
UID:ai1ec-2421@karekaresurfclub.org.nz
DTSTAMP:20210119T072226Z
CATEGORIES:
CONTACT:
DESCRIPTION:
DTSTART;VALUE=DATE:20200329
DTEND;VALUE=DATE:20200330
SEQUENCE:0
SUMMARY:Junior Surf Club Day
URL:https://karekaresurfclub.org.nz/event/junior-surf-club-day-2/
X-COST-TYPE:free
END:VEVENT
BEGIN:VEVENT
UID:ai1ec-2423@karekaresurfclub.org.nz
DTSTAMP:20210119T072226Z
CATEGORIES:
CONTACT:
DESCRIPTION:
DTSTART;VALUE=DATE:20200329
DTEND;VALUE=DATE:20200330
SEQUENCE:0
SUMMARY:Patrol 3
URL:https://karekaresurfclub.org.nz/event/patrol-3-3/
X-COST-TYPE:free
END:VEVENT
BEGIN:VEVENT
UID:ai1ec-2424@karekaresurfclub.org.nz
DTSTAMP:20210119T072226Z
CATEGORIES:
CONTACT:
DESCRIPTION:
DTSTART;VALUE=DATE:20200404
DTEND;VALUE=DATE:20200405
SEQUENCE:0
SUMMARY:Patrol 5
URL:https://karekaresurfclub.org.nz/event/patrol-5-3/
X-COST-TYPE:free
END:VEVENT
BEGIN:VEVENT
UID:ai1ec-2425@karekaresurfclub.org.nz
DTSTAMP:20210119T072226Z
CATEGORIES:
CONTACT:
DESCRIPTION:
DTSTART;VALUE=DATE:20200405
DTEND;VALUE=DATE:20200406
SEQUENCE:0
SUMMARY:Patrol 5
URL:https://karekaresurfclub.org.nz/event/patrol-5-4/
X-COST-TYPE:free
END:VEVENT
BEGIN:VEVENT
UID:ai1ec-2426@karekaresurfclub.org.nz
DTSTAMP:20210119T072226Z
CATEGORIES:
CONTACT:
DESCRIPTION:
DTSTART;VALUE=DATE:20200410
DTEND;VALUE=DATE:20200411
SEQUENCE:0
SUMMARY:Patrol 2
URL:https://karekaresurfclub.org.nz/event/patrol-2-2/
X-COST-TYPE:free
END:VEVENT
BEGIN:VEVENT
UID:ai1ec-2427@karekaresurfclub.org.nz
DTSTAMP:20210119T072226Z
CATEGORIES:
CONTACT:
DESCRIPTION:
DTSTART;VALUE=DATE:20200411
DTEND;VALUE=DATE:20200412
SEQUENCE:0
SUMMARY:Patrol 2
URL:https://karekaresurfclub.org.nz/event/patrol-2-3/
X-COST-TYPE:free
END:VEVENT
BEGIN:VEVENT
UID:ai1ec-2428@karekaresurfclub.org.nz
DTSTAMP:20210119T072226Z
CATEGORIES:
CONTACT:
DESCRIPTION:
DTSTART;VALUE=DATE:20200412
DTEND;VALUE=DATE:20200413
SEQUENCE:0
SUMMARY:Patrol 4
URL:https://karekaresurfclub.org.nz/event/patrol-4-4/
X-COST-TYPE:free
END:VEVENT
BEGIN:VEVENT
UID:ai1ec-2429@karekaresurfclub.org.nz
DTSTAMP:20210119T072226Z
CATEGORIES:
CONTACT:
DESCRIPTION:
DTSTART;VALUE=DATE:20200413
DTEND;VALUE=DATE:20200414
SEQUENCE:0
SUMMARY:Patrol 4
URL:https://karekaresurfclub.org.nz/event/patrol-4-5/
X-COST-TYPE:free
END:VEVENT
BEGIN:VEVENT
UID:ai1ec-2394@kare-kare.web123.nz
DTSTAMP:20210119T072226Z
CATEGORIES:
CONTACT:
DESCRIPTION:
DTSTART;TZID=Atlantic/Azores:20200208T002100
DTEND;TZID=Atlantic/Azores:20200208T012100
SEQUENCE:0
SUMMARY:Patrol 3
URL:https://karekaresurfclub.org.nz/event/patrol-3-2/
X-COST-TYPE:free
END:VEVENT
BEGIN:VEVENT
UID:ai1ec-2568@karekaresurfclub.org.nz
DTSTAMP:20210119T072226Z
CATEGORIES:
CONTACT:
DESCRIPTION:
DTSTART;TZID=Atlantic/Azores:20200823T160000
DTEND;TZID=Atlantic/Azores:20200823T200000
LOCATION:Swanson RSA @ Swanson Road\, Swanson
SEQUENCE:0
SUMMARY:AGM
URL:https://karekaresurfclub.org.nz/event/agm/
X-COST-TYPE:free
END:VEVENT
BEGIN:VEVENT
UID:ai1ec-2557@karekaresurfclub.org.nz
DTSTAMP:20210119T072226Z
CATEGORIES:
CONTACT:
DESCRIPTION:
DTSTART;TZID=Atlantic/Azores:20201024T110000
DTEND;TZID=Atlantic/Azores:20201024T160000
SEQUENCE:0
SUMMARY:Start of 2020 lifesaving season
URL:https://karekaresurfclub.org.nz/event/club-agm/
X-COST-TYPE:free
END:VEVENT
BEGIN:VEVENT
UID:ai1ec-2666@karekaresurfclub.org.nz
DTSTAMP:20210119T072226Z
CATEGORIES:
CONTACT:
DESCRIPTION:
DTSTART;TZID=Atlantic/Azores:20201025T110000
DTEND;TZID=Atlantic/Azores:20201025T160000
SEQUENCE:0
SUMMARY:Patrol 1
URL:https://karekaresurfclub.org.nz/event/patrol-1-3/
X-COST-TYPE:free
END:VEVENT
BEGIN:VEVENT
UID:ai1ec-2669@karekaresurfclub.org.nz
DTSTAMP:20210119T072226Z
CATEGORIES:
CONTACT:
DESCRIPTION:
DTSTART;TZID=Atlantic/Azores:20201031T110000
DTEND;TZID=Atlantic/Azores:20201031T160000
SEQUENCE:0
SUMMARY:Patrol 2
URL:https://karekaresurfclub.org.nz/event/patrol-2-4/
X-COST-TYPE:free
END:VEVENT
BEGIN:VEVENT
UID:ai1ec-2671@karekaresurfclub.org.nz
DTSTAMP:20210119T072226Z
CATEGORIES:
CONTACT:
DESCRIPTION:
DTSTART;TZID=Atlantic/Azores:20201101T110000
DTEND;TZID=Atlantic/Azores:20201101T160000
SEQUENCE:0
SUMMARY:Patrol 3
URL:https://karekaresurfclub.org.nz/event/patrol-3-5/
X-COST-TYPE:free
END:VEVENT
BEGIN:VEVENT
UID:ai1ec-2672@karekaresurfclub.org.nz
DTSTAMP:20210119T072226Z
CATEGORIES:
CONTACT:
DESCRIPTION:
DTSTART;TZID=Atlantic/Azores:20201107T110000
DTEND;TZID=Atlantic/Azores:20201107T160000
SEQUENCE:0
SUMMARY:Patrol 4
URL:https://karekaresurfclub.org.nz/event/patrol-4-6/
X-COST-TYPE:free
END:VEVENT
BEGIN:VEVENT
UID:ai1ec-2670@karekaresurfclub.org.nz
DTSTAMP:20210119T072226Z
CATEGORIES:
CONTACT:
DESCRIPTION:
DTSTART;TZID=Atlantic/Azores:20201108T110000
DTEND;TZID=Atlantic/Azores:20201108T160000
SEQUENCE:0
SUMMARY:Patrol 5
URL:https://karekaresurfclub.org.nz/event/patrol-3-4/
X-COST-TYPE:free
END:VEVENT
BEGIN:VEVENT
UID:ai1ec-2673@karekaresurfclub.org.nz
DTSTAMP:20210119T072226Z
CATEGORIES:
CONTACT:
DESCRIPTION:
DTSTART;TZID=Atlantic/Azores:20201114T110000
DTEND;TZID=Atlantic/Azores:20201114T160000
SEQUENCE:0
SUMMARY:Patrol 3
URL:https://karekaresurfclub.org.nz/event/patrol-3-6/
X-COST-TYPE:free
END:VEVENT
BEGIN:VEVENT
UID:ai1ec-2674@karekaresurfclub.org.nz
DTSTAMP:20210119T072226Z
CATEGORIES:
CONTACT:
DESCRIPTION:
DTSTART;TZID=Atlantic/Azores:20201115T110000
DTEND;TZID=Atlantic/Azores:20201115T160000
SEQUENCE:0
SUMMARY:Patrol 2\, JS starts 11.00am
URL:https://karekaresurfclub.org.nz/event/patrol-2-js-starts-11-00am/
X-COST-TYPE:free
END:VEVENT
BEGIN:VEVENT
UID:ai1ec-2675@karekaresurfclub.org.nz
DTSTAMP:20210119T072226Z
CATEGORIES:
CONTACT:
DESCRIPTION:
DTSTART;TZID=Atlantic/Azores:20201121T110000
DTEND;TZID=Atlantic/Azores:20201121T160000
SEQUENCE:0
SUMMARY:Patrol 5
URL:https://karekaresurfclub.org.nz/event/patrol-5-5/
X-COST-TYPE:free
END:VEVENT
BEGIN:VEVENT
UID:ai1ec-2676@karekaresurfclub.org.nz
DTSTAMP:20210119T072226Z
CATEGORIES:
CONTACT:
DESCRIPTION:
DTSTART;TZID=Atlantic/Azores:20201122T110000
DTEND;TZID=Atlantic/Azores:20201122T160000
SEQUENCE:0
SUMMARY:Patrol 4
URL:https://karekaresurfclub.org.nz/event/patrol-4-7/
X-COST-TYPE:free
END:VEVENT
BEGIN:VEVENT
UID:ai1ec-2677@karekaresurfclub.org.nz
DTSTAMP:20210119T072226Z
CATEGORIES:
CONTACT:
DESCRIPTION:
DTSTART;TZID=Atlantic/Azores:20201128T110000
DTEND;TZID=Atlantic/Azores:20201128T160000
SEQUENCE:0
SUMMARY:Patrol 2
URL:https://karekaresurfclub.org.nz/event/patrol-2-5/
X-COST-TYPE:free
END:VEVENT
BEGIN:VEVENT
UID:ai1ec-2678@karekaresurfclub.org.nz
DTSTAMP:20210119T072226Z
CATEGORIES:
CONTACT:
DESCRIPTION:
DTSTART;TZID=Atlantic/Azores:20201129T110000
DTEND;TZID=Atlantic/Azores:20201129T160000
SEQUENCE:0
SUMMARY:Patrol 3\, JS session 11am
URL:https://karekaresurfclub.org.nz/event/patrol-3-js-session-11am/
X-COST-TYPE:free
END:VEVENT
BEGIN:VEVENT
UID:ai1ec-2679@karekaresurfclub.org.nz
DTSTAMP:20210119T072226Z
CATEGORIES:
CONTACT:
DESCRIPTION:
DTSTART;TZID=Atlantic/Azores:20201205T110000
DTEND;TZID=Atlantic/Azores:20201205T170000
SEQUENCE:0
SUMMARY:Patrol 4
URL:https://karekaresurfclub.org.nz/event/patrol-4-8/
X-COST-TYPE:free
END:VEVENT
BEGIN:VEVENT
UID:ai1ec-2680@karekaresurfclub.org.nz
DTSTAMP:20210119T072226Z
CATEGORIES:
CONTACT:
DESCRIPTION:
DTSTART;TZID=Atlantic/Azores:20201206T110000
DTEND;TZID=Atlantic/Azores:20201206T160000
SEQUENCE:0
SUMMARY:Patrol 5
URL:https://karekaresurfclub.org.nz/event/patrol-5-6/
X-COST-TYPE:free
END:VEVENT
BEGIN:VEVENT
UID:ai1ec-2681@karekaresurfclub.org.nz
DTSTAMP:20210119T072226Z
CATEGORIES:
CONTACT:
DESCRIPTION:
DTSTART;TZID=Atlantic/Azores:20201212T110000
DTEND;TZID=Atlantic/Azores:20201212T170000
SEQUENCE:0
SUMMARY:Patrol 1
URL:https://karekaresurfclub.org.nz/event/patrol-1-4/
X-COST-TYPE:free
END:VEVENT
BEGIN:VEVENT
UID:ai1ec-2682@karekaresurfclub.org.nz
DTSTAMP:20210119T072226Z
CATEGORIES:
CONTACT:
DESCRIPTION:
DTSTART;TZID=Atlantic/Azores:20201213T110000
DTEND;TZID=Atlantic/Azores:20201213T170000
SEQUENCE:0
SUMMARY:Patrol 1\, JS 11am
URL:https://karekaresurfclub.org.nz/event/patrol-1-js-11am/
X-COST-TYPE:free
END:VEVENT
BEGIN:VEVENT
UID:ai1ec-2685@karekaresurfclub.org.nz
DTSTAMP:20210119T072226Z
CATEGORIES:
CONTACT:
DESCRIPTION:
DTSTART;TZID=Atlantic/Azores:20201214T110000
DTEND;TZID=Atlantic/Azores:20201214T180000
SEQUENCE:0
SUMMARY:Regional Guards start
URL:https://karekaresurfclub.org.nz/event/regional-guards-start/
X-COST-TYPE:free
END:VEVENT
BEGIN:VEVENT
UID:ai1ec-2683@karekaresurfclub.org.nz
DTSTAMP:20210119T072226Z
CATEGORIES:
CONTACT:
DESCRIPTION:
DTSTART;TZID=Atlantic/Azores:20201219T110000
DTEND;TZID=Atlantic/Azores:20201219T170000
SEQUENCE:0
SUMMARY:Patrol 2
URL:https://karekaresurfclub.org.nz/event/patrol-2-6/
X-COST-TYPE:free
END:VEVENT
BEGIN:VEVENT
UID:ai1ec-2684@karekaresurfclub.org.nz
DTSTAMP:20210119T072226Z
CATEGORIES:
CONTACT:
DESCRIPTION:
DTSTART;TZID=Atlantic/Azores:20201220T110000
DTEND;TZID=Atlantic/Azores:20201220T170000
SEQUENCE:0
SUMMARY:Patrol 2
URL:https://karekaresurfclub.org.nz/event/patrol-2-7/
X-COST-TYPE:free
END:VEVENT
BEGIN:VEVENT
UID:ai1ec-2686@karekaresurfclub.org.nz
DTSTAMP:20210119T072226Z
CATEGORIES:
CONTACT:
DESCRIPTION:
DTSTART;TZID=Atlantic/Azores:20201225T110000
DTEND;TZID=Atlantic/Azores:20201225T180000
SEQUENCE:0
SUMMARY:Christmas Day – Regional Lifeguards on Duty
URL:https://karekaresurfclub.org.nz/event/christmas-day-regional-lifeguards
 -on-duty/
X-COST-TYPE:free
END:VEVENT
BEGIN:VEVENT
UID:ai1ec-2687@karekaresurfclub.org.nz
DTSTAMP:20210119T072226Z
CATEGORIES:
CONTACT:
DESCRIPTION:
DTSTART;TZID=Atlantic/Azores:20201226T110000
DTEND;TZID=Atlantic/Azores:20201226T170000
SEQUENCE:0
SUMMARY:Patrol 3
URL:https://karekaresurfclub.org.nz/event/patrol-3-7/
X-COST-TYPE:free
END:VEVENT
BEGIN:VEVENT
UID:ai1ec-2688@karekaresurfclub.org.nz
DTSTAMP:20210119T072226Z
CATEGORIES:
CONTACT:
DESCRIPTION:
DTSTART;TZID=Atlantic/Azores:20201227T110000
DTEND;TZID=Atlantic/Azores:20201227T170000
SEQUENCE:0
SUMMARY:Patrol 3
URL:https://karekaresurfclub.org.nz/event/patrol-3-8/
X-COST-TYPE:free
END:VEVENT
BEGIN:VEVENT
UID:ai1ec-2689@karekaresurfclub.org.nz
DTSTAMP:20210119T072226Z
CATEGORIES:
CONTACT:
DESCRIPTION:
DTSTART;TZID=Atlantic/Azores:20210101T110000
DTEND;TZID=Atlantic/Azores:20210101T180000
SEQUENCE:0
SUMMARY:New Years Day Regional Lifeguards on duty
URL:https://karekaresurfclub.org.nz/event/new-years-day-regional-lifeguards
 -on-duty/
X-COST-TYPE:free
END:VEVENT
BEGIN:VEVENT
UID:ai1ec-2690@karekaresurfclub.org.nz
DTSTAMP:20210119T072226Z
CATEGORIES:
CONTACT:
DESCRIPTION:
DTSTART;TZID=Atlantic/Azores:20210102T110000
DTEND;TZID=Atlantic/Azores:20210102T170000
SEQUENCE:0
SUMMARY:Patrol 4
URL:https://karekaresurfclub.org.nz/event/patrol-4-9/
X-COST-TYPE:free
END:VEVENT
BEGIN:VEVENT
UID:ai1ec-2691@karekaresurfclub.org.nz
DTSTAMP:20210119T072226Z
CATEGORIES:
CONTACT:
DESCRIPTION:
DTSTART;TZID=Atlantic/Azores:20210103T110000
DTEND;TZID=Atlantic/Azores:20210103T170000
SEQUENCE:0
SUMMARY:Patrol 4
URL:https://karekaresurfclub.org.nz/event/patrol-4-10/
X-COST-TYPE:free
END:VEVENT
BEGIN:VEVENT
UID:ai1ec-2692@karekaresurfclub.org.nz
DTSTAMP:20210119T072226Z
CATEGORIES:
CONTACT:
DESCRIPTION:
DTSTART;TZID=Atlantic/Azores:20210109T110000
DTEND;TZID=Atlantic/Azores:20210109T170000
SEQUENCE:0
SUMMARY:Patrol 5
URL:https://karekaresurfclub.org.nz/event/patrol-5-7/
X-COST-TYPE:free
END:VEVENT
BEGIN:VEVENT
UID:ai1ec-2693@karekaresurfclub.org.nz
DTSTAMP:20210119T072226Z
CATEGORIES:
CONTACT:
DESCRIPTION:
DTSTART;TZID=Atlantic/Azores:20210110T110000
DTEND;TZID=Atlantic/Azores:20210110T170000
SEQUENCE:0
SUMMARY:Patrol 5
URL:https://karekaresurfclub.org.nz/event/patrol-5-8/
X-COST-TYPE:free
END:VEVENT
BEGIN:VEVENT
UID:ai1ec-2694@karekaresurfclub.org.nz
DTSTAMP:20210119T072226Z
CATEGORIES:
CONTACT:
DESCRIPTION:
DTSTART;TZID=Atlantic/Azores:20210116T110000
DTEND;TZID=Atlantic/Azores:20210116T170000
SEQUENCE:0
SUMMARY:Patrol 1
URL:https://karekaresurfclub.org.nz/event/patrol-1-5/
X-COST-TYPE:free
END:VEVENT
BEGIN:VEVENT
UID:ai1ec-2695@karekaresurfclub.org.nz
DTSTAMP:20210119T072226Z
CATEGORIES:
CONTACT:
DESCRIPTION:
DTSTART;TZID=Atlantic/Azores:20210117T110000
DTEND;TZID=Atlantic/Azores:20210117T170000
SEQUENCE:0
SUMMARY:Patrol 1
URL:https://karekaresurfclub.org.nz/event/patrol-1-6/
X-COST-TYPE:free
END:VEVENT
BEGIN:VEVENT
UID:ai1ec-2696@karekaresurfclub.org.nz
DTSTAMP:20210119T072226Z
CATEGORIES:
CONTACT:
DESCRIPTION:
DTSTART;TZID=Atlantic/Azores:20210123T110000
DTEND;TZID=Atlantic/Azores:20210123T170000
SEQUENCE:0
SUMMARY:Patrol 3
URL:https://karekaresurfclub.org.nz/event/patrol-3-9/
X-COST-TYPE:free
END:VEVENT
END:VCALENDAR
